BEGIN:VCALENDAR
VERSION:2.0
PRODID:-//BrahmaKumaris Noida Sector-26 - ECPv4.9.3.2//NONSGML v1.0//EN
CALSCALE:GREGORIAN
METHOD:PUBLISH
X-WR-CALNAME:BrahmaKumaris Noida Sector-26
X-ORIGINAL-URL:https://noida.bk.ooo
X-WR-CALDESC:Events for BrahmaKumaris Noida Sector-26
BEGIN:VEVENT
DTSTART;TZID=UTC-5.5:20171217T110000
DTEND;TZID=UTC-5.5:20171217T130000
DTSTAMP:20260422T234804
CREATED:20171130T113421Z
LAST-MODIFIED:20171201T053818Z
UID:369-1513508400-1513515600@noida.bk.ooo
SUMMARY:Clearing the SMOG Within
DESCRIPTION:  \n\n \n\n\n\nClick HERE to REGISTER \n
URL:https://noida.bk.ooo/event/369/
LOCATION:QA Infotech\, A-8\, Sector 68\, Noida\, UP\, 201309\, India
END:VEVENT
END:VCALENDAR