BEGIN:VCALENDAR
VERSION:2.0
PRODID:-//BrahmaKumaris Noida Sector-26 - ECPv4.9.3.2//NONSGML v1.0//EN
CALSCALE:GREGORIAN
METHOD:PUBLISH
X-WR-CALNAME:BrahmaKumaris Noida Sector-26
X-ORIGINAL-URL:https://noida.bk.ooo
X-WR-CALDESC:Events for BrahmaKumaris Noida Sector-26
BEGIN:VEVENT
DTSTART;TZID=UTC-5.5:20230107T110000
DTEND;TZID=UTC-5.5:20230107T130000
DTSTAMP:20260422T235132
CREATED:20230102T155416Z
LAST-MODIFIED:20230103T012827Z
UID:1290-1673089200-1673096400@noida.bk.ooo
SUMMARY:Empowerment 2.0 - The New Beginnings at Brahmakumaris  Noida Sec-26
DESCRIPTION:It is that time of the year when everyone is busy making new resolutions\, new wishes! Are you also thinking of the same mundane and then feeling low of not achieving what you had wanted?\nLet’s break the jinx and create something new together. We will take you to a wonderful journey of revisiting dreams\, Recreating the achievable and revitalizing ourselves. \nBrahma Kumaris cordially invites IT/Working professionals along with their family to a session on Empowerment 2.0 – The New Beginnings on Saturday 7th Jan 2023 \n⏰Time: 11am-1pm \n🏡 Where: Sadbhawna Bhawan\, A-161\, Sec-26\, Noida (https://goo.gl/maps/RptdPYjY2WwXw84Y8) \nSession will be followed by divine lunch. \nTotal seats: 120\nRegistration URL: https://forms.office.com/r/bhKMU9Fm4p \nPlease note the following:\n– There are no charges for registration but registration is mandatory. All family members should be registered separately.\n– Registration will be confirmed on first come first serve basis for eligible candidates\n– Kids below the age of 15 years are not allowed. \n  \n  \n \n  \n
URL:https://noida.bk.ooo/event/empowerment-2-0-the-new-beginnings-at-brahmakumaris-noida-sec-26-2/
CATEGORIES:Empowerment 2.0 - The New Beginnings
ATTACH;FMTTYPE=image/jpeg:https://noida.bk.ooo/wp-content/uploads/sites/249/2023/01/WhatsApp-Image-2023-01-02-at-8.25.35-PM.jpeg
END:VEVENT
END:VCALENDAR