BEGIN:VCALENDAR
VERSION:2.0
PRODID:-//BrahmaKumaris Noida Sector-26 - ECPv4.9.3.2//NONSGML v1.0//EN
CALSCALE:GREGORIAN
METHOD:PUBLISH
X-WR-CALNAME:BrahmaKumaris Noida Sector-26
X-ORIGINAL-URL:https://noida.bk.ooo
X-WR-CALDESC:Events for BrahmaKumaris Noida Sector-26
BEGIN:VEVENT
DTSTART;TZID=UTC-5.5:20170621T050000
DTEND;TZID=UTC-5.5:20170621T083000
DTSTAMP:20260422T235217
CREATED:20170613T133245Z
LAST-MODIFIED:20170613T133308Z
UID:218-1498021200-1498033800@noida.bk.ooo
SUMMARY:International Day of (Raj)Yoga @ RedFort - June 21\, 2017
DESCRIPTION: \n
URL:https://noida.bk.ooo/event/international-day-of-rajyoga-redfort-june-21-2017/
LOCATION:Red Fort\, Netaji Subhash Marg\, Lal Qila\, Chandni Chowk\, Delhi\, Delhi\, 110006\, India
END:VEVENT
END:VCALENDAR