BEGIN:VCALENDAR
VERSION:2.0
PRODID:-//BrahmaKumaris Noida Sector-26 - ECPv4.9.3.2//NONSGML v1.0//EN
CALSCALE:GREGORIAN
METHOD:PUBLISH
X-WR-CALNAME:BrahmaKumaris Noida Sector-26
X-ORIGINAL-URL:https://noida.bk.ooo
X-WR-CALDESC:Events for BrahmaKumaris Noida Sector-26
BEGIN:VEVENT
DTSTART;TZID=UTC-5.5:20170618T100000
DTEND;TZID=UTC-5.5:20170618T200000
DTSTAMP:20260423T011112
CREATED:20170613T132727Z
LAST-MODIFIED:20170613T132727Z
UID:215-1497780000-1497816000@noida.bk.ooo
SUMMARY:International Day of Yoga (IDY) - Sunday - June 18\, 2017
DESCRIPTION: \n
URL:https://noida.bk.ooo/event/international-day-of-yoga-idy-sunday-june-18-2017/
LOCATION:Sirifort Auditorium\, A-25\, Balbir Saxena Marg\, Siri Institutional Area\, Siri Fort Institutional Area\, Gulmohar Park\, New Delhi\, 110049
END:VEVENT
END:VCALENDAR