BEGIN:VCALENDAR
VERSION:2.0
PRODID:-//BrahmaKumaris Noida Sector-26 - ECPv4.9.3.2//NONSGML v1.0//EN
CALSCALE:GREGORIAN
METHOD:PUBLISH
X-WR-CALNAME:BrahmaKumaris Noida Sector-26
X-ORIGINAL-URL:https://noida.bk.ooo
X-WR-CALDESC:Events for BrahmaKumaris Noida Sector-26
BEGIN:VEVENT
DTSTART;TZID=UTC-5.5:20220702T103000
DTEND;TZID=UTC-5.5:20220702T130000
DTSTAMP:20260422T235131
CREATED:20220627T090320Z
LAST-MODIFIED:20220628T130249Z
UID:1122-1656757800-1656766800@noida.bk.ooo
SUMMARY:Managing Stress in Media Profession : Role of Meditation
DESCRIPTION: \n
URL:https://noida.bk.ooo/event/managing-stress-in-media-profession-role-of-meditation/
ATTACH;FMTTYPE=image/png:https://noida.bk.ooo/wp-content/uploads/sites/249/2022/06/YouTube-Thumbnail.png
END:VEVENT
END:VCALENDAR