BEGIN:VCALENDAR
VERSION:2.0
PRODID:-//BrahmaKumaris Noida Sector-26 - ECPv4.9.3.2//NONSGML v1.0//EN
CALSCALE:GREGORIAN
METHOD:PUBLISH
X-WR-CALNAME:BrahmaKumaris Noida Sector-26
X-ORIGINAL-URL:https://noida.bk.ooo
X-WR-CALDESC:Events for BrahmaKumaris Noida Sector-26
BEGIN:VEVENT
DTSTART;TZID=UTC-5.5:20181118T170000
DTEND;TZID=UTC-5.5:20181118T190000
DTSTAMP:20260422T235107
CREATED:20181110T133840Z
LAST-MODIFIED:20181110T133840Z
UID:499-1542560400-1542567600@noida.bk.ooo
SUMMARY:SECRETS OF JOY LIVING
DESCRIPTION:SECRETS OF JOY LIVING \nSPEAKER: BK EV GIREESH FROM MUMBAI \n18TH NOV (SUNDAY):5 PM TO 7.PM\n19TH-20TH NOV (MON-TUE) 6.30 PM TO 7.30PM \nVENUE: SADBHAWANA BHAWAN\, A-161\,SEC-26\nOPP.KAILASH HOSPITAL\, NOIDA\nCALL ON 910013744\,9871873350 \n
URL:https://noida.bk.ooo/event/secrets-of-joy-living/
LOCATION:VENUE: SADBHAWANA BHAWAN\, A-161\,SEC-26 OPP.KAILASH HOSPITAL\,\, A-161\,SEC-26 OPP.KAILASH HOSPITAL\,\, NOIDA\, U.P\, India
ATTACH;FMTTYPE=image/jpeg:https://noida.bk.ooo/wp-content/uploads/sites/249/2018/11/A5-Prints-Brahamkumaris.jpg
END:VEVENT
END:VCALENDAR