BEGIN:VCALENDAR
VERSION:2.0
PRODID:-//BrahmaKumaris Noida Sector-26 - ECPv4.9.3.2//NONSGML v1.0//EN
CALSCALE:GREGORIAN
METHOD:PUBLISH
X-WR-CALNAME:BrahmaKumaris Noida Sector-26
X-ORIGINAL-URL:https://noida.bk.ooo
X-WR-CALDESC:Events for BrahmaKumaris Noida Sector-26
BEGIN:VEVENT
DTSTART;TZID=UTC-5.5:20181214T080000
DTEND;TZID=UTC-5.5:20181216T170000
DTSTAMP:20260422T235130
CREATED:20181211T070948Z
LAST-MODIFIED:20181211T071624Z
UID:502-1544774400-1544979600@noida.bk.ooo
SUMMARY:Yoga & Wellness Festival (14th -16th Dec 2018)  By BK Shivani
DESCRIPTION:Loading… \nVenue :              Greater Noida Sports Complex\, Shaheed Vijay Singh Pathik Sports Complex\, GREATER NOIDA\, UP\nEnquiries :         9756524325\, 9871873350\, 9910013744\nEmail:                 ywfestival2018@gmail.com\nLocation URL:    https://goo.gl/maps/akRZPgkGc9x \n
URL:https://noida.bk.ooo/event/yoga-wellness-festival-14th-16th-dec-2018-by-bk-shivani/
LOCATION:Greater Noida Sports Complex\,\, Shaheed Vijay Singh Pathik Sports Complex\,\, GREATER NOIDA\, U.P\, India
ATTACH;FMTTYPE=image/jpeg:https://noida.bk.ooo/wp-content/uploads/sites/249/2018/06/shivani-us.jpg
END:VEVENT
END:VCALENDAR